BEGIN:VCALENDAR
VERSION:2.0
PRODID:-//Squarespace Inc/Squarespace 6//v6//EN
BEGIN:VEVENT
UID:60039b8312a04d6cc494e9fe@squarespace.com
DTSTAMP:20210117T020725Z
DTSTART:20210904T030000Z
DTEND:20210904T115500Z
SUMMARY:Auckland
END:VEVENT
END:VCALENDAR
