BEGIN:VCALENDAR
VERSION:2.0
PRODID:-//Squarespace Inc/Squarespace 6//v6//EN
BEGIN:VEVENT
UID:60039ad6f3d9ba7765a1704d@squarespace.com
DTSTAMP:20210117T020512Z
DTSTART:20210903T030000Z
DTEND:20210903T115500Z
SUMMARY:Auckland
END:VEVENT
END:VCALENDAR
