BEGIN:VCALENDAR
VERSION:2.0
PRODID:-//Squarespace Inc/Squarespace 6//v6//EN
BEGIN:VEVENT
UID:60039bc0f838875dc538d3e2@squarespace.com
DTSTAMP:20210117T020844Z
DTSTART:20210917T030000Z
DTEND:20210917T115500Z
SUMMARY:Dunedin
END:VEVENT
END:VCALENDAR
