BEGIN:VCALENDAR
VERSION:2.0
PRODID:-//Squarespace Inc/Squarespace 6//v6//EN
BEGIN:VEVENT
UID:60039c2f3d757a3dbd18d08d@squarespace.com
DTSTAMP:20210117T020928Z
DTSTART:20210918T030000Z
DTEND:20210918T115500Z
SUMMARY:Dunedin
END:VEVENT
END:VCALENDAR
