BEGIN:VCALENDAR
VERSION:2.0
PRODID:-//Squarespace Inc/Squarespace 6//v6//EN
BEGIN:VEVENT
UID:60039c5bdea472688fa90d11@squarespace.com
DTSTAMP:20210117T021300Z
DTSTART:20211023T020000Z
DTEND:20211023T105500Z
SUMMARY:Rotorua
END:VEVENT
END:VCALENDAR
