BEGIN:VCALENDAR
VERSION:2.0
PRODID:-//Squarespace Inc/Squarespace 6//v6//EN
BEGIN:VEVENT
UID:60039cce34e62f52c6dd718e@squarespace.com
DTSTAMP:20210117T021238Z
DTSTART:20211112T020000Z
DTEND:20211112T105500Z
SUMMARY:Christchurch
END:VEVENT
END:VCALENDAR
