BEGIN:VCALENDAR
VERSION:2.0
PRODID:-//Squarespace Inc/Squarespace 6//v6//EN
BEGIN:VEVENT
UID:60039d307fec5e68f5764421@squarespace.com
DTSTAMP:20210117T021324Z
DTSTART:20211113T020000Z
DTEND:20211113T105500Z
SUMMARY:Christchurch
END:VEVENT
END:VCALENDAR
