BEGIN:VCALENDAR
VERSION:2.0
PRODID:-//Squarespace Inc/Squarespace 6//v6//EN
BEGIN:VEVENT
UID:60039d5148a9597086737b81@squarespace.com
DTSTAMP:20210117T021425Z
DTSTART:20211119T020000Z
DTEND:20211119T105500Z
SUMMARY:Wellington
END:VEVENT
END:VCALENDAR
