BEGIN:VCALENDAR
VERSION:2.0
PRODID:-//Squarespace Inc/Squarespace 6//v6//EN
BEGIN:VEVENT
UID:60039d873e592d07ac38ae70@squarespace.com
DTSTAMP:20210117T021519Z
DTSTART:20211127T020000Z
DTEND:20211127T105500Z
SUMMARY:Greymouth
END:VEVENT
END:VCALENDAR
