BEGIN:VCALENDAR
VERSION:2.0
PRODID:-//Squarespace Inc/Squarespace 6//v6//EN
BEGIN:VEVENT
UID:60039dbb2b330874407d8d15@squarespace.com
DTSTAMP:20210117T021606Z
DTSTART:20211204T020000Z
DTEND:20211204T105500Z
SUMMARY:Black Barn
END:VEVENT
END:VCALENDAR
