BEGIN:VCALENDAR
VERSION:2.0
PRODID:-//Squarespace Inc/Squarespace 6//v6//EN
BEGIN:VEVENT
UID:60038e2e2379c17f2a0c362c@squarespace.com
DTSTAMP:20210117T020549Z
DTSTART:20210130T020000Z
DTEND:20210130T105500Z
SUMMARY:Nelson
END:VEVENT
END:VCALENDAR
