BEGIN:VCALENDAR
VERSION:2.0
PRODID:-//Squarespace Inc/Squarespace 6//v6//EN
BEGIN:VEVENT
UID:60038e2e2379c17f2a0c3628@squarespace.com
DTSTAMP:20210117T022429Z
DTSTART:20210129T060000Z
DTEND:20220129T105500Z
SUMMARY:Playhouse Cafe
GEO:-41.279327;173.076503
LOCATION:Playhouse Cafe\, 171 Westdale Road\, Redwood Valley\, Tasman\, 708
 1\, New Zealand
END:VEVENT
END:VCALENDAR
